BEGIN:VCALENDAR
VERSION:2.0
PRODID:-//Plone.org//NONSGML plone.app.event//EN
X-WR-TIMEZONE:Europe/Vienna
BEGIN:VEVENT
SUMMARY:Open Studios Augasse IKR
DTSTART;TZID=Europe/Vienna:20240118T160000
DTEND;TZID=Europe/Vienna:20240118T180000
DTSTAMP:20260424T012905Z
UID:35eee4b0966647f994257818e6154fa8@www.akbild.ac.at
CATEGORIES:Ausstellungen
CREATED:20231218T115634Z
LAST-MODIFIED:20240802T102944Z
URL:https://www.akbild.ac.at/en/university/events/exhibitions_didacticprog
 ram/2024/open-days-2024/open-studios-augasse-ikr
END:VEVENT
BEGIN:VTIMEZONE
TZID:Europe/Vienna
X-LIC-LOCATION:Europe/Vienna
BEGIN:STANDARD
DTSTART:20231029T020000
TZNAME:CET
TZOFFSETFROM:+0200
TZOFFSETTO:+0100
END:STANDARD
END:VTIMEZONE
END:VCALENDAR
