BEGIN:VCALENDAR
VERSION:2.0
PRODID:-//Plone.org//NONSGML plone.app.event//EN
X-WR-TIMEZONE:Europe/Vienna
BEGIN:VEVENT
SUMMARY:Sunday tour
DTSTART;TZID=Europe/Vienna:20240121T103000
DTSTAMP:20260425T171434Z
UID:8036505ea55349e4b2c89e5bfe9f0c26@www.akbild.ac.at
CATEGORIES:Führungen
CREATED:20230303T135311Z
DESCRIPTION:Overview tour through the exhibition History Tales. Fact and 
 Fiction in History Painting
LAST-MODIFIED:20250414T122810Z
URL:https://www.akbild.ac.at/en/university/events/exhibitions_didacticprog
 ram/2024/open-days-2024/sunday-tour-240121
END:VEVENT
BEGIN:VTIMEZONE
TZID:Europe/Vienna
X-LIC-LOCATION:Europe/Vienna
BEGIN:STANDARD
DTSTART:20231029T020000
TZNAME:CET
TZOFFSETFROM:+0200
TZOFFSETTO:+0100
END:STANDARD
END:VTIMEZONE
END:VCALENDAR
