BEGIN:VCALENDAR
VERSION:2.0
PRODID:-//Plone.org//NONSGML plone.app.event//EN
X-WR-TIMEZONE:Europe/Vienna
BEGIN:VEVENT
SUMMARY:SUPERS vs. MIRJANA
DTSTART;TZID=Europe/Vienna:20240120T150000
DTSTAMP:20260425T102114Z
UID:3845eb8a8b134e6494ce4274bf70e9b2@www.akbild.ac.at
CATEGORIES:Vorträge / Veranstaltungen
CREATED:20231215T233449Z
DESCRIPTION:Videoinstallation by Mirjana Mustra. Studio Art and Interventi
 on | Concept
LAST-MODIFIED:20240802T102939Z
URL:https://www.akbild.ac.at/en/university/events/exhibitions_didacticprog
 ram/2024/open-days-2024/supers-vs-mirjana
END:VEVENT
BEGIN:VTIMEZONE
TZID:Europe/Vienna
X-LIC-LOCATION:Europe/Vienna
BEGIN:STANDARD
DTSTART:20231029T020000
TZNAME:CET
TZOFFSETFROM:+0200
TZOFFSETTO:+0100
END:STANDARD
END:VTIMEZONE
END:VCALENDAR
