BEGIN:VCALENDAR
VERSION:2.0
PRODID:-//Plone.org//NONSGML plone.app.event//EN
X-WR-TIMEZONE:Europe/Vienna
BEGIN:VEVENT
SUMMARY:WE LOVE RISO
DTSTART;TZID=Europe/Vienna:20240119T130000
DTEND;TZID=Europe/Vienna:20240119T170000
DTSTAMP:20260419T132203Z
UID:07bfe4fb27264bc6ab2b6888e3a0993a@www.akbild.ac.at
CATEGORIES:Vorträge / Veranstaltungen
CREATED:20231218T143039Z
DESCRIPTION:Open printing workshop - Nataša Sienčnik and Franziska Thurn
 er give visitors an insight into the technique of risography
LAST-MODIFIED:20240802T102944Z
URL:https://www.akbild.ac.at/en/university/events/exhibitions_didacticprog
 ram/2024/open-days-2024/we-love-riso
END:VEVENT
BEGIN:VTIMEZONE
TZID:Europe/Vienna
X-LIC-LOCATION:Europe/Vienna
BEGIN:STANDARD
DTSTART:20231029T020000
TZNAME:CET
TZOFFSETFROM:+0200
TZOFFSETTO:+0100
END:STANDARD
END:VTIMEZONE
END:VCALENDAR
