BEGIN:VCALENDAR
VERSION:2.0
PRODID:-//Plone.org//NONSGML plone.app.event//EN
X-WR-TIMEZONE:Europe/Vienna
BEGIN:VEVENT
SUMMARY:Zoya Laktionova and Ziliä Qansurá
DTSTART;VALUE=DATE:20240118
DTEND;VALUE=DATE:20240122
DTSTAMP:20260422T055305Z
UID:130537147ab046bbac6badb04e8d68fa@www.akbild.ac.at
CATEGORIES:Ausstellungen
CREATED:20240111T113459Z
DESCRIPTION:Exhibition in the new exhibition-cube of the Academy of Fine A
 rts Vienna by scholarship holders of the ASoP* scholarship program of the 
 BMEIA in cooperation with the Academy of Fine Arts Vienna. Opening 18.01.\
 , 1700 h
LAST-MODIFIED:20240802T102948Z
URL:https://www.akbild.ac.at/en/university/events/exhibitions_didacticprog
 ram/2024/open-days-2024/zoya-laktionova-and-ziliia-kanchurina
END:VEVENT
END:VCALENDAR
