BEGIN:VCALENDAR
VERSION:2.0
PRODID:-//Plone.org//NONSGML plone.app.event//EN
X-WR-TIMEZONE:Europe/Vienna
BEGIN:VEVENT
SUMMARY:"Weisser Fleck" - an artistic research project
DTSTART;VALUE=DATE:20240927
DTEND;VALUE=DATE:20250602
DTSTAMP:20260423T084304Z
UID:1d793adb0b0a454a918abbffa0881a3f@www.akbild.ac.at
CATEGORIES:Ausstellungen
CREATED:20240919T141344Z
DESCRIPTION:Weißer Fleck (Blind Spot) is an innovative artistic research 
 project that is now on display on the façade of a Gemeindebau in Heiligen
 stadt\, Vienna. This project is a long term collaborative effort (since 20
 21) between the Insitute for Art and Architecture\, the Institute of Natur
 al Sciences and Technology in the Arts and The Dusts Institute. It represe
 nts an intersection of artistic research\, architecture\, and geomicrobiol
 ogy. The project was supported by KÖR and is an integral part of the rese
 arch at Academy under the title 'Epidermitecture'.
LAST-MODIFIED:20251128T101423Z
URL:https://www.akbild.ac.at/en/university/events/exhibitions_didacticprog
 ram/2024/weisser-fleck-an-artistic-research-project
END:VEVENT
END:VCALENDAR
