BEGIN:VCALENDAR
VERSION:2.0
PRODID:-//Plone.org//NONSGML plone.app.event//EN
X-WR-TIMEZONE:Europe/Vienna
BEGIN:VEVENT
SUMMARY:Competition for barrier-free access: Talk and coming together
DTSTART;TZID=Europe/Vienna:20250117T120000
DTEND;TZID=Europe/Vienna:20250117T140000
DTSTAMP:20260423T192731Z
UID:75f29eb664fa4eae8cb9e0fffe080435@www.akbild.ac.at
CATEGORIES:Vorträge / Veranstaltungen
CREATED:20241220T104241Z
DESCRIPTION:Presentation of all submissions to the competition for barrier
 -free access to the main building of the Academy of Fine Arts Vienna\, dur
 ing the tour from January 16th to 19th 2025.
LAST-MODIFIED:20241220T104355Z
URL:https://www.akbild.ac.at/en/university/events/exhibitions_didacticprog
 ram/2025/open-days-2025/competition-for-barrier-free-access-talk-and-comin
 g-together
END:VEVENT
BEGIN:VTIMEZONE
TZID:Europe/Vienna
X-LIC-LOCATION:Europe/Vienna
BEGIN:STANDARD
DTSTART:20241027T020000
TZNAME:CET
TZOFFSETFROM:+0200
TZOFFSETTO:+0100
END:STANDARD
END:VTIMEZONE
END:VCALENDAR
