BEGIN:VCALENDAR
VERSION:2.0
PRODID:-//Plone.org//NONSGML plone.app.event//EN
X-WR-TIMEZONE:Europe/Vienna
BEGIN:VEVENT
SUMMARY:Diploma Presentation at Exhibit Eschenbachgasse
DTSTART;TZID=Europe/Vienna:20250116T160000
DTEND;TZID=Europe/Vienna:20250119T180000
DTSTAMP:20260424T201923Z
UID:a447022ed6144bd4a03d015e4c5e6020@www.akbild.ac.at
CATEGORIES:Ausstellungen
CREATED:20241217T093610Z
DESCRIPTION:The presentations of the diplomas will take place in the Exhib
 it Eschenbachgasse.
LAST-MODIFIED:20250114T101439Z
URL:https://www.akbild.ac.at/en/university/events/exhibitions_didacticprog
 ram/2025/open-days-2025/diploma-presentation-at-exhibit-eschenbachgasse
END:VEVENT
BEGIN:VTIMEZONE
TZID:Europe/Vienna
X-LIC-LOCATION:Europe/Vienna
BEGIN:STANDARD
DTSTART:20241027T020000
TZNAME:CET
TZOFFSETFROM:+0200
TZOFFSETTO:+0100
END:STANDARD
END:VTIMEZONE
END:VCALENDAR
