BEGIN:VCALENDAR
VERSION:2.0
PRODID:-//Plone.org//NONSGML plone.app.event//EN
X-WR-TIMEZONE:Europe/Vienna
BEGIN:VEVENT
SUMMARY:Exhibition: Marin Shamov and Olga Shapovalova
DTSTART;TZID=Europe/Vienna:20250116T203000
DTEND;TZID=Europe/Vienna:20250130T235900
DTSTAMP:20260425T225642Z
UID:9b416bfc4b114001bc1abc9762969f1d@www.akbild.ac.at
CATEGORIES:Ausstellungen
CREATED:20241216T135708Z
DESCRIPTION:Exhibition at Aula of the Academy of Fine Arts Vienna by schol
 arship holders of the ASoP*scholarship program of the BMEIA in cooperation
  with the Academy of Fine Arts Vienna.
LAST-MODIFIED:20250122T145526Z
URL:https://www.akbild.ac.at/en/university/events/exhibitions_didacticprog
 ram/2025/open-days-2025/exhibition-marin-shamov-and-olga-shapovalova
END:VEVENT
BEGIN:VTIMEZONE
TZID:Europe/Vienna
X-LIC-LOCATION:Europe/Vienna
BEGIN:STANDARD
DTSTART:20241027T020000
TZNAME:CET
TZOFFSETFROM:+0200
TZOFFSETTO:+0100
END:STANDARD
END:VTIMEZONE
END:VCALENDAR
