BEGIN:VCALENDAR
VERSION:2.0
PRODID:-//Plone.org//NONSGML plone.app.event//EN
X-WR-TIMEZONE:Europe/Vienna
BEGIN:VEVENT
SUMMARY:Exhibition of the Department Art and Time | Performance
DTSTART;TZID=Europe/Vienna:20250116T160000
DTEND;TZID=Europe/Vienna:20250119T180000
DTSTAMP:20260423T084458Z
UID:e5e0504d28f248f49592f801505c0b64@www.akbild.ac.at
CATEGORIES:Ausstellungen
CREATED:20241220T110640Z
DESCRIPTION:Exhibition of the Department Art and Time | Performance in the
  studio behind the Aula.
LAST-MODIFIED:20241220T110703Z
URL:https://www.akbild.ac.at/en/university/events/exhibitions_didacticprog
 ram/2025/open-days-2025/exhibition-of-the-department-art-and-time-performa
 nce
END:VEVENT
BEGIN:VTIMEZONE
TZID:Europe/Vienna
X-LIC-LOCATION:Europe/Vienna
BEGIN:STANDARD
DTSTART:20241027T020000
TZNAME:CET
TZOFFSETFROM:+0200
TZOFFSETTO:+0100
END:STANDARD
END:VTIMEZONE
END:VCALENDAR
