BEGIN:VCALENDAR
VERSION:2.0
PRODID:-//Plone.org//NONSGML plone.app.event//EN
X-WR-TIMEZONE:Europe/Vienna
BEGIN:VEVENT
SUMMARY:Exhibition opening: Studio Art and Intervention | Concept
DTSTART;TZID=Europe/Vienna:20250116T160000
DTSTAMP:20260424T003157Z
UID:7920c689ea6a4964b5c3392a2db09acd@www.akbild.ac.at
CATEGORIES:Ausstellungen
CREATED:20241217T113525Z
LAST-MODIFIED:20250116T112058Z
URL:https://www.akbild.ac.at/en/university/events/exhibitions_didacticprog
 ram/2025/open-days-2025/exhibition-opening-studio-art-and-intervention-con
 cept
END:VEVENT
BEGIN:VTIMEZONE
TZID:Europe/Vienna
X-LIC-LOCATION:Europe/Vienna
BEGIN:STANDARD
DTSTART:20241027T020000
TZNAME:CET
TZOFFSETFROM:+0200
TZOFFSETTO:+0100
END:STANDARD
END:VTIMEZONE
END:VCALENDAR
