BEGIN:VCALENDAR
VERSION:2.0
PRODID:-//Plone.org//NONSGML plone.app.event//EN
X-WR-TIMEZONE:Europe/Vienna
BEGIN:VEVENT
SUMMARY:Gender & Space // A Feminist Approach to Urban Design (Mariana Per
 ezanta)
DTSTART;TZID=Europe/Vienna:20250116T160000
DTEND;TZID=Europe/Vienna:20250119T180000
DTSTAMP:20260426T034821Z
UID:221c427eb7b449ad8c62ec00b2851a3f@www.akbild.ac.at
CATEGORIES:Ausstellungen
CREATED:20250114T155002Z
DESCRIPTION:Throughout the semester\, we engaged with a series of feminist
  readings that expanded my perspective as an architect. I came to see femi
 nism not just as the inclusion of women in projects\, but as a powerful to
 ol to ask critical questions: What does it mean to build? For whom do we b
 uild? How do we build? And where do we build?
LAST-MODIFIED:20250114T155022Z
URL:https://www.akbild.ac.at/en/university/events/exhibitions_didacticprog
 ram/2025/open-days-2025/gender-space-a-feminist-approach-to-urban-design-m
 ariana-perezanta
END:VEVENT
BEGIN:VTIMEZONE
TZID:Europe/Vienna
X-LIC-LOCATION:Europe/Vienna
BEGIN:STANDARD
DTSTART:20241027T020000
TZNAME:CET
TZOFFSETFROM:+0200
TZOFFSETTO:+0100
END:STANDARD
END:VTIMEZONE
END:VCALENDAR
