BEGIN:VCALENDAR
VERSION:2.0
PRODID:-//Plone.org//NONSGML plone.app.event//EN
X-WR-TIMEZONE:Europe/Vienna
BEGIN:VEVENT
SUMMARY:Gender & Space // Becoming Medusa or Medusa: Storytelling as Colle
 ctive Resistance
DTSTART;TZID=Europe/Vienna:20250116T160000
DTEND;TZID=Europe/Vienna:20250119T180000
DTSTAMP:20260423T202242Z
UID:bf3d71a5bd324ce9bdcc82503d928892@www.akbild.ac.at
CATEGORIES:Ausstellungen
CREATED:20250112T130237Z
DESCRIPTION:Students of the studio Gender and Space invite you to explore 
 the Aula as an island\, a place of ecdysis and transformation. In the mult
 imedia installation Becoming Medusa storytelling works as collective resis
 tance.
LAST-MODIFIED:20250112T130447Z
URL:https://www.akbild.ac.at/en/university/events/exhibitions_didacticprog
 ram/2025/open-days-2025/gender-space-becoming-medusa-or-medusa-storytellin
 g-as-collective-resistance
END:VEVENT
BEGIN:VTIMEZONE
TZID:Europe/Vienna
X-LIC-LOCATION:Europe/Vienna
BEGIN:STANDARD
DTSTART:20241027T020000
TZNAME:CET
TZOFFSETFROM:+0200
TZOFFSETTO:+0100
END:STANDARD
END:VTIMEZONE
END:VCALENDAR
