BEGIN:VCALENDAR
VERSION:2.0
PRODID:-//Plone.org//NONSGML plone.app.event//EN
X-WR-TIMEZONE:Europe/Vienna
BEGIN:VEVENT
SUMMARY:Gender und Space // The Unseen Design: Reclaiming Charlotte Perria
 nd's Vision (Rita Teixeira)
DTSTART;TZID=Europe/Vienna:20250116T160000
DTEND;TZID=Europe/Vienna:20250119T180000
DTSTAMP:20260423T144949Z
UID:f2004996537b4075b744240d6f72f0d1@www.akbild.ac.at
CATEGORIES:Vorträge / Veranstaltungen
CREATED:20250112T124354Z
DESCRIPTION:The installation "The Unseen Design: Reclaiming Charlotte Perr
 iand's Vision" highlights the overlooked contributions of Charlotte Perria
 nd to the iconic chaise longue often attributed solely to Le Corbusier. Us
 ing transparent fabric and invisible ink\, the artwork invites visitors to
  rediscover Perriand's visionary work. Part of Gender &amp\; Space studio 
 (IKA).
LAST-MODIFIED:20250112T124425Z
URL:https://www.akbild.ac.at/en/university/events/exhibitions_didacticprog
 ram/2025/open-days-2025/gender-und-space-the-unseen-design-reclaiming-char
 lotte-perriands-vision-rita-teixeira
END:VEVENT
BEGIN:VTIMEZONE
TZID:Europe/Vienna
X-LIC-LOCATION:Europe/Vienna
BEGIN:STANDARD
DTSTART:20241027T020000
TZNAME:CET
TZOFFSETFROM:+0200
TZOFFSETTO:+0100
END:STANDARD
END:VTIMEZONE
END:VCALENDAR
