BEGIN:VCALENDAR
VERSION:2.0
PRODID:-//Plone.org//NONSGML plone.app.event//EN
X-WR-TIMEZONE:Europe/Vienna
BEGIN:VEVENT
SUMMARY:Kiosk – individual Media Tour through the locations of the Acade
 my
DTSTART;TZID=Europe/Vienna:20250116T160000
DTEND;TZID=Europe/Vienna:20250119T180000
DTSTAMP:20260424T014737Z
UID:79d69dadc59c4d6b9c74a2d4318ab4c3@www.akbild.ac.at
CATEGORIES:Führungen
CREATED:20241219T101823Z
DESCRIPTION:The new study information platform Kiosk provides individual i
 nsights into various places at the Academy of Fine Arts Vienna. Students a
 nd staff talk about the different fields of study\, programs and projects.
LAST-MODIFIED:20250116T164655Z
URL:https://www.akbild.ac.at/en/university/events/exhibitions_didacticprog
 ram/2025/open-days-2025/kiosk-individual-media-tour-schillerplatz
END:VEVENT
BEGIN:VTIMEZONE
TZID:Europe/Vienna
X-LIC-LOCATION:Europe/Vienna
BEGIN:STANDARD
DTSTART:20241027T020000
TZNAME:CET
TZOFFSETFROM:+0200
TZOFFSETTO:+0100
END:STANDARD
END:VTIMEZONE
END:VCALENDAR
