BEGIN:VCALENDAR
VERSION:2.0
PRODID:-//Plone.org//NONSGML plone.app.event//EN
X-WR-TIMEZONE:Europe/Vienna
BEGIN:VEVENT
SUMMARY:Music performance by Dacid Go8lin. Evening bar by David Cuka and L
 ukas Brunner
DTSTART;TZID=Europe/Vienna:20250117T200000
DTEND;TZID=Europe/Vienna:20250117T220000
DTSTAMP:20260423T154525Z
UID:7975e5bb968b4a7ebcffc4ba02d356ae@www.akbild.ac.at
CATEGORIES:Vorträge / Veranstaltungen
CREATED:20241217T143022Z
DESCRIPTION:Studio Art and Intervention /Concept/ Post-conceptual Art Prac
 tices / Prof. Marina Gržinić
LAST-MODIFIED:20250108T101532Z
URL:https://www.akbild.ac.at/en/university/events/exhibitions_didacticprog
 ram/2025/open-days-2025/music-performance-by-dacid-go8lin-evening-bar-by-d
 avid-cuka-and-lukas-brunner
END:VEVENT
BEGIN:VTIMEZONE
TZID:Europe/Vienna
X-LIC-LOCATION:Europe/Vienna
BEGIN:STANDARD
DTSTART:20241027T020000
TZNAME:CET
TZOFFSETFROM:+0200
TZOFFSETTO:+0100
END:STANDARD
END:VTIMEZONE
END:VCALENDAR
