BEGIN:VCALENDAR
VERSION:2.0
PRODID:-//Plone.org//NONSGML plone.app.event//EN
X-WR-TIMEZONE:Europe/Vienna
BEGIN:VEVENT
SUMMARY:Presentations of works
DTSTART;TZID=Europe/Vienna:20250117T160000
DTEND;TZID=Europe/Vienna:20250117T190000
DTSTAMP:20260423T113047Z
UID:f0a76f69f9254e2db822812e8a4b49d0@www.akbild.ac.at
CATEGORIES:Vorträge / Veranstaltungen
CREATED:20241217T142440Z
DESCRIPTION:Studio Art and Intervention /Concept/ Post-conceptual Art Prac
 tices / Prof. Marina Gržinić
LAST-MODIFIED:20241217T142609Z
URL:https://www.akbild.ac.at/en/university/events/exhibitions_didacticprog
 ram/2025/open-days-2025/presentations-of-works
END:VEVENT
BEGIN:VTIMEZONE
TZID:Europe/Vienna
X-LIC-LOCATION:Europe/Vienna
BEGIN:STANDARD
DTSTART:20241027T020000
TZNAME:CET
TZOFFSETFROM:+0200
TZOFFSETTO:+0100
END:STANDARD
END:VTIMEZONE
END:VCALENDAR
