BEGIN:VCALENDAR
VERSION:2.0
PRODID:-//Plone.org//NONSGML plone.app.event//EN
X-WR-TIMEZONE:Europe/Vienna
BEGIN:VEVENT
SUMMARY:We are here now - Perform!
DTSTART;TZID=Europe/Vienna:20250116T190000
DTEND;TZID=Europe/Vienna:20250116T203000
DTSTAMP:20260419T125047Z
UID:db99125de8ff4f4f91225faf35501663@www.akbild.ac.at
CATEGORIES:Vorträge / Veranstaltungen
CREATED:20241220T105241Z
DESCRIPTION:Performances from the Department of Art and Time | Performance
 .
LAST-MODIFIED:20250115T134101Z
URL:https://www.akbild.ac.at/en/university/events/exhibitions_didacticprog
 ram/2025/open-days-2025/we-are-here-now-perform
END:VEVENT
BEGIN:VTIMEZONE
TZID:Europe/Vienna
X-LIC-LOCATION:Europe/Vienna
BEGIN:STANDARD
DTSTART:20241027T020000
TZNAME:CET
TZOFFSETFROM:+0200
TZOFFSETTO:+0100
END:STANDARD
END:VTIMEZONE
END:VCALENDAR
