BEGIN:VCALENDAR
VERSION:2.0
PRODID:-//Plone.org//NONSGML plone.app.event//EN
X-WR-TIMEZONE:Europe/Vienna
BEGIN:VEVENT
SUMMARY:Cadavre Exquis
DTSTART;VALUE=DATE:20260427
DTEND;VALUE=DATE:20260504
DTSTAMP:20260423T173020Z
UID:84b899bab8074c79b00a8d88582f2225@www.akbild.ac.at
CATEGORIES:Ausstellungen
CREATED:20260423T140219Z
DESCRIPTION:A group exhibition as a part of the international ASA program\
 , curated by Rafael Hofmann.
LAST-MODIFIED:20260423T140234Z
URL:https://www.akbild.ac.at/en/university/events/exhibitions_didacticprog
 ram/2026/cadavre-exquis
END:VEVENT
END:VCALENDAR
