BEGIN:VCALENDAR
VERSION:2.0
PRODID:-//Plone.org//NONSGML plone.app.event//EN
X-WR-TIMEZONE:Europe/Vienna
BEGIN:VEVENT
SUMMARY:A book for Hörbücherei
DTSTART;TZID=Europe/Vienna:20260122T161000
DTEND;TZID=Europe/Vienna:20260123T200000
DTSTAMP:20260420T170714Z
UID:5947085880af47f794f2d7d837f16c92@www.akbild.ac.at
CATEGORIES:Vorträge / Veranstaltungen
CREATED:20251212T100132Z
DESCRIPTION:The University Library's charity book bazaar for the benefit o
 f Hörbücherei\, the only center of excellence for accessible media in Au
 stria.
LAST-MODIFIED:20251212T130817Z
URL:https://www.akbild.ac.at/en/university/events/exhibitions_didacticprog
 ram/2026/open-days-2026/a-book-for-horbucherei
END:VEVENT
BEGIN:VTIMEZONE
TZID:Europe/Vienna
X-LIC-LOCATION:Europe/Vienna
BEGIN:STANDARD
DTSTART:20251026T020000
TZNAME:CET
TZOFFSETFROM:+0200
TZOFFSETTO:+0100
END:STANDARD
END:VTIMEZONE
END:VCALENDAR
