BEGIN:VCALENDAR
VERSION:2.0
PRODID:-//Plone.org//NONSGML plone.app.event//EN
X-WR-TIMEZONE:Europe/Vienna
BEGIN:VEVENT
SUMMARY:Concert evening by the Scenography Class
DTSTART;TZID=Europe/Vienna:20260123T193000
DTEND;TZID=Europe/Vienna:20260123T235900
DTSTAMP:20260422T081810Z
UID:ae2bbdb953d6480d99fff45ea3ecef72@www.akbild.ac.at
CATEGORIES:Vorträge / Veranstaltungen
CREATED:20260105T115041Z
DESCRIPTION:Concert and performances\, organized by the Scenography class.
LAST-MODIFIED:20260113T084911Z
URL:https://www.akbild.ac.at/en/university/events/exhibitions_didacticprog
 ram/2026/open-days-2026/concert-evening-by-the-scenography-class
END:VEVENT
BEGIN:VTIMEZONE
TZID:Europe/Vienna
X-LIC-LOCATION:Europe/Vienna
BEGIN:STANDARD
DTSTART:20251026T020000
TZNAME:CET
TZOFFSETFROM:+0200
TZOFFSETTO:+0100
END:STANDARD
END:VTIMEZONE
END:VCALENDAR
