BEGIN:VCALENDAR
VERSION:2.0
PRODID:-//Plone.org//NONSGML plone.app.event//EN
X-WR-TIMEZONE:Europe/Vienna
BEGIN:VEVENT
SUMMARY:Die Stürze (The Falls)
DTSTART;TZID=Europe/Vienna:20260123T183000
DTSTAMP:20260422T081810Z
UID:4fbc1cc6026545149a56bdb2c5f9912b@www.akbild.ac.at
CATEGORIES:Vorträge / Veranstaltungen
CREATED:20260113T085246Z
DESCRIPTION:Performance on the theme of falling\, based on Amitav Ghosh's 
 book The Nutmeg's Curse. What must fall and how? Falling backwards\, chang
 ing direction\, falling in slow motion. The audience experiences falls to 
 come\, in the Gallery of the Studio Building.
LAST-MODIFIED:20260113T085532Z
URL:https://www.akbild.ac.at/en/university/events/exhibitions_didacticprog
 ram/2026/open-days-2026/copy_of_die-sturze-the-falls
END:VEVENT
BEGIN:VTIMEZONE
TZID:Europe/Vienna
X-LIC-LOCATION:Europe/Vienna
BEGIN:STANDARD
DTSTART:20251026T020000
TZNAME:CET
TZOFFSETFROM:+0200
TZOFFSETTO:+0100
END:STANDARD
END:VTIMEZONE
END:VCALENDAR
