BEGIN:VCALENDAR
VERSION:2.0
PRODID:-//Plone.org//NONSGML plone.app.event//EN
X-WR-TIMEZONE:Europe/Vienna
BEGIN:VEVENT
SUMMARY:DASEDITH2026
DTSTART;TZID=Europe/Vienna:20260122T161000
DTEND;TZID=Europe/Vienna:20260125T180000
DTSTAMP:20260420T170530Z
UID:d0ec4ccc96e04b4fb5a37691fd0633e8@www.akbild.ac.at
CATEGORIES:Ausstellungen
CREATED:20260119T095737Z
DESCRIPTION:DASEDITH 2026: Contemporary printmaking Edition project
LAST-MODIFIED:20260121T085739Z
URL:https://www.akbild.ac.at/en/university/events/exhibitions_didacticprog
 ram/2026/open-days-2026/dasedith2026
END:VEVENT
BEGIN:VTIMEZONE
TZID:Europe/Vienna
X-LIC-LOCATION:Europe/Vienna
BEGIN:STANDARD
DTSTART:20251026T020000
TZNAME:CET
TZOFFSETFROM:+0200
TZOFFSETTO:+0100
END:STANDARD
END:VTIMEZONE
END:VCALENDAR
