BEGIN:VCALENDAR
VERSION:2.0
PRODID:-//Plone.org//NONSGML plone.app.event//EN
X-WR-TIMEZONE:Europe/Vienna
BEGIN:VEVENT
SUMMARY:Design in Context - Exhibition
DTSTART;TZID=Europe/Vienna:20260122T161000
DTEND;TZID=Europe/Vienna:20260125T180000
DTSTAMP:20260422T014616Z
UID:4eb4f39e93d74a558d061632eeea28b1@www.akbild.ac.at
CATEGORIES:Ausstellungen
CREATED:20260109T143846Z
DESCRIPTION:Exhibition of student works created at the Design in Context p
 rogram at the Institute for Education in the Arts.
LAST-MODIFIED:20260120T104814Z
URL:https://www.akbild.ac.at/en/university/events/exhibitions_didacticprog
 ram/2026/open-days-2026/design-in-context-exhibition
END:VEVENT
BEGIN:VTIMEZONE
TZID:Europe/Vienna
X-LIC-LOCATION:Europe/Vienna
BEGIN:STANDARD
DTSTART:20251026T020000
TZNAME:CET
TZOFFSETFROM:+0200
TZOFFSETTO:+0100
END:STANDARD
END:VTIMEZONE
END:VCALENDAR
