BEGIN:VCALENDAR
VERSION:2.0
PRODID:-//Plone.org//NONSGML plone.app.event//EN
X-WR-TIMEZONE:Europe/Vienna
BEGIN:VEVENT
SUMMARY:Diploma Presentation at Exhibit Eschenbachgasse
DTSTART;TZID=Europe/Vienna:20260122T161000
DTEND;TZID=Europe/Vienna:20260125T180000
DTSTAMP:20260420T152903Z
UID:5280bfb77e1a4bb7be76e922d86e8042@www.akbild.ac.at
CATEGORIES:Ausstellungen
CREATED:20251217T084130Z
DESCRIPTION:The presentations of the diplomas will take place in the Exhib
 it Eschenbachgasse.
LAST-MODIFIED:20260121T130047Z
URL:https://www.akbild.ac.at/en/university/events/exhibitions_didacticprog
 ram/2026/open-days-2026/diploma-presentation-at-exhibit-eschenbachgasse
END:VEVENT
BEGIN:VTIMEZONE
TZID:Europe/Vienna
X-LIC-LOCATION:Europe/Vienna
BEGIN:STANDARD
DTSTART:20251026T020000
TZNAME:CET
TZOFFSETFROM:+0200
TZOFFSETTO:+0100
END:STANDARD
END:VTIMEZONE
END:VCALENDAR
