BEGIN:VCALENDAR
VERSION:2.0
PRODID:-//Plone.org//NONSGML plone.app.event//EN
X-WR-TIMEZONE:Europe/Vienna
BEGIN:VEVENT
SUMMARY:Eine Lampe fällt um.
DTSTART;TZID=Europe/Vienna:20260122T161000
DTEND;TZID=Europe/Vienna:20260125T180000
DTSTAMP:20260420T152730Z
UID:9ec80fe9d42d48478f830760d86b00b6@www.akbild.ac.at
CATEGORIES:Ausstellungen
CREATED:20260105T112921Z
DESCRIPTION:As we head toward what seems like the inevitable end\, we wond
 er how it could have all gone so wrong. Open studios by the Scenography c
 lass: exhibition\, readings\, performances\, bar\, concerts.
LAST-MODIFIED:20260119T125343Z
URL:https://www.akbild.ac.at/en/university/events/exhibitions_didacticprog
 ram/2026/open-days-2026/eine-lampe-fallt-um
END:VEVENT
BEGIN:VTIMEZONE
TZID:Europe/Vienna
X-LIC-LOCATION:Europe/Vienna
BEGIN:STANDARD
DTSTART:20251026T020000
TZNAME:CET
TZOFFSETFROM:+0200
TZOFFSETTO:+0100
END:STANDARD
END:VTIMEZONE
END:VCALENDAR
