BEGIN:VCALENDAR
VERSION:2.0
PRODID:-//Plone.org//NONSGML plone.app.event//EN
X-WR-TIMEZONE:Europe/Vienna
BEGIN:VEVENT
SUMMARY:[em]Academy Goes to School[/em] introduces itself
DTSTART;TZID=Europe/Vienna:20260122T163000
DTEND;TZID=Europe/Vienna:20260122T180000
DTSTAMP:20260420T170817Z
UID:98c2459c2f264a3d93669260f0d87bb9@www.akbild.ac.at
CATEGORIES:Studieninformationen
CREATED:20260109T141609Z
DESCRIPTION:The coordination office AgidS will have an info desk at Rundga
 ng 2026! AgidS is committed to equal opportunities and makes artistic educ
 ation and higher education more accessible to young people. Learn more abo
 ut the different ways to get get involved.
LAST-MODIFIED:20260119T125658Z
URL:https://www.akbild.ac.at/en/university/events/exhibitions_didacticprog
 ram/2026/open-days-2026/em-academy-goes-to-school-em-introduces-itself
END:VEVENT
BEGIN:VTIMEZONE
TZID:Europe/Vienna
X-LIC-LOCATION:Europe/Vienna
BEGIN:STANDARD
DTSTART:20251026T020000
TZNAME:CET
TZOFFSETFROM:+0200
TZOFFSETTO:+0100
END:STANDARD
END:VTIMEZONE
END:VCALENDAR
