BEGIN:VCALENDAR
VERSION:2.0
PRODID:-//Plone.org//NONSGML plone.app.event//EN
X-WR-TIMEZONE:Europe/Vienna
BEGIN:VEVENT
SUMMARY:EXHIBITION in the Studio for Art and Time | Performance
DTSTART;TZID=Europe/Vienna:20260122T161000
DTEND;TZID=Europe/Vienna:20260125T180000
DTSTAMP:20260420T171352Z
UID:7d64ee1f112e41229312b77c77117d67@www.akbild.ac.at
CATEGORIES:Vorträge / Veranstaltungen
CREATED:20251216T085011Z
DESCRIPTION:Performative experiments – conceptual or playful\, as solo p
 erformances or in groups. Sometimes the audience is even involved. We look
  forward to seeing you!
LAST-MODIFIED:20260119T125515Z
URL:https://www.akbild.ac.at/en/university/events/exhibitions_didacticprog
 ram/2026/open-days-2026/exhibition-in-the-studio-for-art-and-time-performa
 nce
END:VEVENT
BEGIN:VTIMEZONE
TZID:Europe/Vienna
X-LIC-LOCATION:Europe/Vienna
BEGIN:STANDARD
DTSTART:20251026T020000
TZNAME:CET
TZOFFSETFROM:+0200
TZOFFSETTO:+0100
END:STANDARD
END:VTIMEZONE
END:VCALENDAR
