BEGIN:VCALENDAR
VERSION:2.0
PRODID:-//Plone.org//NONSGML plone.app.event//EN
X-WR-TIMEZONE:Europe/Vienna
BEGIN:VEVENT
SUMMARY:Fortuna Express 5000
DTSTART;TZID=Europe/Vienna:20260122T161000
DTEND;TZID=Europe/Vienna:20260123T220000
DTSTAMP:20260420T152609Z
UID:ffcc9beb3e7743e388588160fb8199c6@www.akbild.ac.at
CATEGORIES:Vorträge / Veranstaltungen
CREATED:20260120T130955Z
DESCRIPTION:A wheel of fortune spins\, tickets can be purchased. 
 Luck decides whether you win a work of art\, a drink or someth
 ing else.
LAST-MODIFIED:20260120T131023Z
URL:https://www.akbild.ac.at/en/university/events/exhibitions_didacticprog
 ram/2026/open-days-2026/fortuna-express-5000
END:VEVENT
BEGIN:VTIMEZONE
TZID:Europe/Vienna
X-LIC-LOCATION:Europe/Vienna
BEGIN:STANDARD
DTSTART:20251026T020000
TZNAME:CET
TZOFFSETFROM:+0200
TZOFFSETTO:+0100
END:STANDARD
END:VTIMEZONE
END:VCALENDAR
