BEGIN:VCALENDAR
VERSION:2.0
PRODID:-//Plone.org//NONSGML plone.app.event//EN
X-WR-TIMEZONE:Europe/Vienna
BEGIN:VEVENT
SUMMARY:Gender & Space // Marie Paulin Lang: CALLING LISA
DTSTART;TZID=Europe/Vienna:20260122T161000
DTEND;TZID=Europe/Vienna:20260125T180000
DTSTAMP:20260420T170827Z
UID:6958b685b76e48e996ec1a2a1fb5ed98@www.akbild.ac.at
CATEGORIES:Ausstellungen
CREATED:20260108T104818Z
DESCRIPTION:The video work invites the viewer to encounter an individual m
 emory through images and sound\, which\, upon closer inspection\, can shed
  light on many feminist issues.
LAST-MODIFIED:20260108T104823Z
URL:https://www.akbild.ac.at/en/university/events/exhibitions_didacticprog
 ram/2026/open-days-2026/gender-space-marie-paulin-lang-calling-lisa
END:VEVENT
BEGIN:VTIMEZONE
TZID:Europe/Vienna
X-LIC-LOCATION:Europe/Vienna
BEGIN:STANDARD
DTSTART:20251026T020000
TZNAME:CET
TZOFFSETFROM:+0200
TZOFFSETTO:+0100
END:STANDARD
END:VTIMEZONE
END:VCALENDAR
