BEGIN:VCALENDAR
VERSION:2.0
PRODID:-//Plone.org//NONSGML plone.app.event//EN
X-WR-TIMEZONE:Europe/Vienna
BEGIN:VEVENT
SUMMARY:Gender & Space // Yuan-Chi Chang: Commoning in Practice
DTSTART;TZID=Europe/Vienna:20260122T161000
DTEND;TZID=Europe/Vienna:20260125T180000
DTSTAMP:20260420T153701Z
UID:3b413fb7d2e9406f844b3a01ad50f37e@www.akbild.ac.at
CATEGORIES:Vorträge / Veranstaltungen
CREATED:20251222T125932Z
DESCRIPTION:Commoning in Practice is a short story collection with illustr
 ations involving people with diverse backgrounds understanding the concept
  of the Commons. Through commons\, we rise in solidarity together.
LAST-MODIFIED:20260119T125214Z
URL:https://www.akbild.ac.at/en/university/events/exhibitions_didacticprog
 ram/2026/open-days-2026/gender-space-yuan-chi-chang-commoning-in-practice
END:VEVENT
BEGIN:VTIMEZONE
TZID:Europe/Vienna
X-LIC-LOCATION:Europe/Vienna
BEGIN:STANDARD
DTSTART:20251026T020000
TZNAME:CET
TZOFFSETFROM:+0200
TZOFFSETTO:+0100
END:STANDARD
END:VTIMEZONE
END:VCALENDAR
