BEGIN:VCALENDAR
VERSION:2.0
PRODID:-//Plone.org//NONSGML plone.app.event//EN
X-WR-TIMEZONE:Europe/Vienna
BEGIN:VEVENT
SUMMARY:Gender & Space// Yuan-Chi Chang:Terra Nullius
DTSTART;TZID=Europe/Vienna:20260122T161000
DTEND;TZID=Europe/Vienna:20260125T180000
DTSTAMP:20260420T154245Z
UID:970e83a70ea547c9b3bb868f48097b3a@www.akbild.ac.at
CATEGORIES:Ausstellungen
CREATED:20260119T124127Z
DESCRIPTION:Terra Nullius (lat. no one’s land) is an imaginative portrai
 t of the mountainous area in Taiwan around the Spanish colonial period. Th
 e silhouette of nature in the painting resembles a feminine body\, suggest
 ing the fundamental correlation between patriarchal and colonial gazes and
  how they both reject the autonomy of the other in order to benefit themse
 lves.
LAST-MODIFIED:20260119T125308Z
URL:https://www.akbild.ac.at/en/university/events/exhibitions_didacticprog
 ram/2026/open-days-2026/gender-space-yuan-chi-chang-terra-nullius
END:VEVENT
BEGIN:VTIMEZONE
TZID:Europe/Vienna
X-LIC-LOCATION:Europe/Vienna
BEGIN:STANDARD
DTSTART:20251026T020000
TZNAME:CET
TZOFFSETFROM:+0200
TZOFFSETTO:+0100
END:STANDARD
END:VTIMEZONE
END:VCALENDAR
