BEGIN:VCALENDAR
VERSION:2.0
PRODID:-//Plone.org//NONSGML plone.app.event//EN
X-WR-TIMEZONE:Europe/Vienna
BEGIN:VEVENT
SUMMARY:Grapheme - New Books in Conversation An Evening with the Institute
  for Art Theory and Cultural Studies
DTSTART;TZID=Europe/Vienna:20260123T180000
DTEND;TZID=Europe/Vienna:20260123T200000
DTSTAMP:20260422T082004Z
UID:5efaf4c9b19a4f578919fa53c82cb535@www.akbild.ac.at
CATEGORIES:Vorträge / Veranstaltungen
CREATED:20260109T140024Z
DESCRIPTION:Authors and editors associated with the Institute for Art Theo
 ry and Cultural Studies of the Academy of Fine Arts Vienna cordially invit
 e you for informal individual conversations about their newly published bo
 oks at the Open Days 2026 in 5-minute slots.
LAST-MODIFIED:20260121T093712Z
URL:https://www.akbild.ac.at/en/university/events/exhibitions_didacticprog
 ram/2026/open-days-2026/grapheme-new-books-in-conversation-an-evening-with
 -the-institute-for-art-theory-and-cultural-studies
END:VEVENT
BEGIN:VTIMEZONE
TZID:Europe/Vienna
X-LIC-LOCATION:Europe/Vienna
BEGIN:STANDARD
DTSTART:20251026T020000
TZNAME:CET
TZOFFSETFROM:+0200
TZOFFSETTO:+0100
END:STANDARD
END:VTIMEZONE
END:VCALENDAR
