BEGIN:VCALENDAR
VERSION:2.0
PRODID:-//Plone.org//NONSGML plone.app.event//EN
X-WR-TIMEZONE:Europe/Vienna
BEGIN:VEVENT
SUMMARY:Guided tour for the exhibitions of the Studio for Art and Space | 
 Spatial Strategies
DTSTART;TZID=Europe/Vienna:20260125T140000
DTSTAMP:20260421T020510Z
UID:99eb8a54fbc94ce5b75c7f57c86a6b26@www.akbild.ac.at
CATEGORIES:Führungen
CREATED:20260108T150133Z
DESCRIPTION:A guided tour for the exhibitions of Studio Spatial Strategies
  by Julia Kronenberg and Sheila Grace Tan.
LAST-MODIFIED:20260108T150141Z
URL:https://www.akbild.ac.at/en/university/events/exhibitions_didacticprog
 ram/2026/open-days-2026/guided-tour-for-the-exhibitions-of-the-studio-for-
 art-and-space-spatial-strategies
END:VEVENT
BEGIN:VTIMEZONE
TZID:Europe/Vienna
X-LIC-LOCATION:Europe/Vienna
BEGIN:STANDARD
DTSTART:20251026T020000
TZNAME:CET
TZOFFSETFROM:+0200
TZOFFSETTO:+0100
END:STANDARD
END:VTIMEZONE
END:VCALENDAR
