BEGIN:VCALENDAR
VERSION:2.0
PRODID:-//Plone.org//NONSGML plone.app.event//EN
X-WR-TIMEZONE:Europe/Vienna
BEGIN:VEVENT
SUMMARY:IKA Study Information Architecture
DTSTART;TZID=Europe/Vienna:20260123T110000
DTEND;TZID=Europe/Vienna:20260123T130000
DTSTAMP:20260422T081554Z
UID:0a20e034de3b4bd99330ec0b280a01c7@www.akbild.ac.at
CATEGORIES:Studieninformationen
CREATED:20251222T124644Z
DESCRIPTION:The Institute for Art and Architecture offers study informatio
 n on the Bachelor and Master programs.
LAST-MODIFIED:20251222T124649Z
URL:https://www.akbild.ac.at/en/university/events/exhibitions_didacticprog
 ram/2026/open-days-2026/ika-study-information-architecture
END:VEVENT
BEGIN:VTIMEZONE
TZID:Europe/Vienna
X-LIC-LOCATION:Europe/Vienna
BEGIN:STANDARD
DTSTART:20251026T020000
TZNAME:CET
TZOFFSETFROM:+0200
TZOFFSETTO:+0100
END:STANDARD
END:VTIMEZONE
END:VCALENDAR
