BEGIN:VCALENDAR
VERSION:2.0
PRODID:-//Plone.org//NONSGML plone.app.event//EN
X-WR-TIMEZONE:Europe/Vienna
BEGIN:VEVENT
SUMMARY:Kunst- und Kulturpädagogik – Exhibition
DTSTART;TZID=Europe/Vienna:20260123T100000
DTEND;TZID=Europe/Vienna:20260123T200000
DTSTAMP:20260423T100955Z
UID:f80dbb825322479aa150ac02297a52ca@www.akbild.ac.at
CATEGORIES:Ausstellungen
CREATED:20260112T141346Z
DESCRIPTION:Exhibition of student work from the Department of Art and Cult
 ural Education at the Institute for Art Education.
LAST-MODIFIED:20260119T082756Z
URL:https://www.akbild.ac.at/en/university/events/exhibitions_didacticprog
 ram/2026/open-days-2026/kunst-und-kulturpaedagogik-exhibition
END:VEVENT
BEGIN:VTIMEZONE
TZID:Europe/Vienna
X-LIC-LOCATION:Europe/Vienna
BEGIN:STANDARD
DTSTART:20251026T020000
TZNAME:CET
TZOFFSETFROM:+0200
TZOFFSETTO:+0100
END:STANDARD
END:VTIMEZONE
END:VCALENDAR
