BEGIN:VCALENDAR
VERSION:2.0
PRODID:-//Plone.org//NONSGML plone.app.event//EN
X-WR-TIMEZONE:Europe/Vienna
BEGIN:VEVENT
SUMMARY:LEGIONELLA
DTSTART;TZID=Europe/Vienna:20260122T161000
DTEND;TZID=Europe/Vienna:20260125T180000
DTSTAMP:20260423T084312Z
UID:7d54e8c10cad40d5b92d5436192854b6@www.akbild.ac.at
CATEGORIES:Vorträge / Veranstaltungen
CREATED:20251216T091035Z
DESCRIPTION:The event Legionella invites you to the concert series  and 
 the exhibition representing all Studio participants of the studio for Art 
 and Image |Expansion under the professorship of Daniel Richter.
LAST-MODIFIED:20260119T125446Z
URL:https://www.akbild.ac.at/en/university/events/exhibitions_didacticprog
 ram/2026/open-days-2026/legionella
END:VEVENT
BEGIN:VTIMEZONE
TZID:Europe/Vienna
X-LIC-LOCATION:Europe/Vienna
BEGIN:STANDARD
DTSTART:20251026T020000
TZNAME:CET
TZOFFSETFROM:+0200
TZOFFSETTO:+0100
END:STANDARD
END:VTIMEZONE
END:VCALENDAR
