BEGIN:VCALENDAR
VERSION:2.0
PRODID:-//Plone.org//NONSGML plone.app.event//EN
X-WR-TIMEZONE:Europe/Vienna
BEGIN:VEVENT
SUMMARY:Lesung aus dem Memoir (Work in Progress): „Mama California\, Sch
 wester New York\, Großtante Galizien“
DTSTART;TZID=Europe/Vienna:20260124T162000
DTEND;TZID=Europe/Vienna:20260124T165000
DTSTAMP:20260422T082003Z
UID:52407dcca09a4da69e8d1093a386ee5d@www.akbild.ac.at
CATEGORIES:Vorträge / Veranstaltungen
CREATED:20260107T150135Z
DESCRIPTION:Performance by Judith Wolfsberger\, Studio for Art and Image |
  Context.
LAST-MODIFIED:20260107T153706Z
URL:https://www.akbild.ac.at/en/university/events/exhibitions_didacticprog
 ram/2026/open-days-2026/lesung-aus-dem-memoir-work-in-progress-mama-califo
 rnia-schwester-new-york-grosstante-galizien
END:VEVENT
BEGIN:VTIMEZONE
TZID:Europe/Vienna
X-LIC-LOCATION:Europe/Vienna
BEGIN:STANDARD
DTSTART:20251026T020000
TZNAME:CET
TZOFFSETFROM:+0200
TZOFFSETTO:+0100
END:STANDARD
END:VTIMEZONE
END:VCALENDAR
