BEGIN:VCALENDAR
VERSION:2.0
PRODID:-//Plone.org//NONSGML plone.app.event//EN
X-WR-TIMEZONE:Europe/Vienna
BEGIN:VEVENT
SUMMARY:PARTY Drawing Class
DTSTART;TZID=Europe/Vienna:20260124T180000
DTEND;TZID=Europe/Vienna:20260124T210000
DTSTAMP:20260422T081646Z
UID:efb3f9dfd5a84d90a9521beb77f9945e@www.akbild.ac.at
CATEGORIES:Vorträge / Veranstaltungen
CREATED:20260121T093425Z
DESCRIPTION:A party organized by the Studio for Art and Image | Drawing\, 
 with a raffle at 20:30 h.
LAST-MODIFIED:20260121T093432Z
URL:https://www.akbild.ac.at/en/university/events/exhibitions_didacticprog
 ram/2026/open-days-2026/party-drawing-class
END:VEVENT
BEGIN:VTIMEZONE
TZID:Europe/Vienna
X-LIC-LOCATION:Europe/Vienna
BEGIN:STANDARD
DTSTART:20251026T020000
TZNAME:CET
TZOFFSETFROM:+0200
TZOFFSETTO:+0100
END:STANDARD
END:VTIMEZONE
END:VCALENDAR
