BEGIN:VCALENDAR
VERSION:2.0
PRODID:-//Plone.org//NONSGML plone.app.event//EN
X-WR-TIMEZONE:Europe/Vienna
BEGIN:VEVENT
SUMMARY:Pizza slices from the oven
DTSTART;TZID=Europe/Vienna:20260123T170000
DTEND;TZID=Europe/Vienna:20260123T200000
DTSTAMP:20260422T081810Z
UID:d600d2e622f74c01bf65c07a64ddd930@www.akbild.ac.at
CATEGORIES:Vorträge / Veranstaltungen
CREATED:20260114T104051Z
DESCRIPTION:Freshly baked pizza slices from the oven in the metal workshop
  of the Institute for Education in the Arts. Hosted by Barbara Rohner and 
 Peter Spitaler.
LAST-MODIFIED:20260114T104100Z
URL:https://www.akbild.ac.at/en/university/events/exhibitions_didacticprog
 ram/2026/open-days-2026/pizza-slices-from-the-oven
END:VEVENT
BEGIN:VTIMEZONE
TZID:Europe/Vienna
X-LIC-LOCATION:Europe/Vienna
BEGIN:STANDARD
DTSTART:20251026T020000
TZNAME:CET
TZOFFSETFROM:+0200
TZOFFSETTO:+0100
END:STANDARD
END:VTIMEZONE
END:VCALENDAR
