BEGIN:VCALENDAR
VERSION:2.0
PRODID:-//Plone.org//NONSGML plone.app.event//EN
X-WR-TIMEZONE:Europe/Vienna
BEGIN:VEVENT
SUMMARY:Portfolio Consultation for the Bachelor's Degree Program in Art an
 d Education
DTSTART;TZID=Europe/Vienna:20260123T120000
DTEND;TZID=Europe/Vienna:20260123T180000
DTSTAMP:20260422T081908Z
UID:1f9fed39ee2a4787817a5667ba822e5d@www.akbild.ac.at
CATEGORIES:Studieninformationen
CREATED:20260108T153217Z
DESCRIPTION:Teachers and students of the Institute for Education oin the A
 rts (IKL) provide individual feedback on artistic/design portfolios with a
  view to the entrance examination for the Bachelor's degree in Art and Edu
 cation.
LAST-MODIFIED:20260112T141304Z
URL:https://www.akbild.ac.at/en/university/events/exhibitions_didacticprog
 ram/2026/open-days-2026/portfolio-consultation-for-the-bachelors-degree-pr
 ogram-in-art-and-education
END:VEVENT
BEGIN:VTIMEZONE
TZID:Europe/Vienna
X-LIC-LOCATION:Europe/Vienna
BEGIN:STANDARD
DTSTART:20251026T020000
TZNAME:CET
TZOFFSETFROM:+0200
TZOFFSETTO:+0100
END:STANDARD
END:VTIMEZONE
END:VCALENDAR
