BEGIN:VCALENDAR
VERSION:2.0
PRODID:-//Plone.org//NONSGML plone.app.event//EN
X-WR-TIMEZONE:Europe/Vienna
BEGIN:VEVENT
SUMMARY:Portfolio consulting ÖH
DTSTART;TZID=Europe/Vienna:20260123T120000
DTEND;TZID=Europe/Vienna:20260123T180000
DTSTAMP:20260422T081754Z
UID:749c77d738c24c1eb7b1d0fd0d2a520d@www.akbild.ac.at
CATEGORIES:Studieninformationen
CREATED:20260108T154325Z
DESCRIPTION:Students of theStudents' Union (ÖH) for the  Institute for E
 ducation in the Arts (IKL) provide individual feedback on artistic/design 
 portfolios with a view to the entrance examination for the bachelor's degr
 ee programs in Art and Education and Design in Context.
LAST-MODIFIED:20260108T154329Z
URL:https://www.akbild.ac.at/en/university/events/exhibitions_didacticprog
 ram/2026/open-days-2026/portfolio-consulting-oh
END:VEVENT
BEGIN:VTIMEZONE
TZID:Europe/Vienna
X-LIC-LOCATION:Europe/Vienna
BEGIN:STANDARD
DTSTART:20251026T020000
TZNAME:CET
TZOFFSETFROM:+0200
TZOFFSETTO:+0100
END:STANDARD
END:VTIMEZONE
END:VCALENDAR
