BEGIN:VCALENDAR
VERSION:2.0
PRODID:-//Plone.org//NONSGML plone.app.event//EN
X-WR-TIMEZONE:Europe/Vienna
BEGIN:VEVENT
SUMMARY:Portfolio Feedback for the Bachelor’s Degree in Design in Contex
 t
DTSTART;TZID=Europe/Vienna:20260123T120000
DTEND;TZID=Europe/Vienna:20260123T180000
DTSTAMP:20260422T081909Z
UID:739404df69d94a0ab5250af2bab7c108@www.akbild.ac.at
CATEGORIES:Studieninformationen
CREATED:20260112T141033Z
DESCRIPTION:Teachers and students of the Institute for Education in the Ar
 ts (IKL) provide individual feedback on artistic/design portfolios with re
 gard to the entrance examination for the Bachelor’s degree program in De
 sign in Context.
LAST-MODIFIED:20260113T100510Z
URL:https://www.akbild.ac.at/en/university/events/exhibitions_didacticprog
 ram/2026/open-days-2026/portfolio-feedback-for-the-bachelors-degree-in-des
 ign-in-context
END:VEVENT
BEGIN:VTIMEZONE
TZID:Europe/Vienna
X-LIC-LOCATION:Europe/Vienna
BEGIN:STANDARD
DTSTART:20251026T020000
TZNAME:CET
TZOFFSETFROM:+0200
TZOFFSETTO:+0100
END:STANDARD
END:VTIMEZONE
END:VCALENDAR
