BEGIN:VCALENDAR
VERSION:2.0
PRODID:-//Plone.org//NONSGML plone.app.event//EN
X-WR-TIMEZONE:Europe/Vienna
BEGIN:VEVENT
SUMMARY:RAUSCHGANG
DTSTART;TZID=Europe/Vienna:20260124T190000
DTEND;TZID=Europe/Vienna:20260124T213000
DTSTAMP:20260422T081707Z
UID:e4e52ad13050457fadee139befb5eec5@www.akbild.ac.at
CATEGORIES:Vorträge / Veranstaltungen
CREATED:20251216T085547Z
DESCRIPTION:DRAGSHOW by HAUS OF RAUSCH with aDJ Set!
LAST-MODIFIED:20251216T085625Z
URL:https://www.akbild.ac.at/en/university/events/exhibitions_didacticprog
 ram/2026/open-days-2026/rauschgang
END:VEVENT
BEGIN:VTIMEZONE
TZID:Europe/Vienna
X-LIC-LOCATION:Europe/Vienna
BEGIN:STANDARD
DTSTART:20251026T020000
TZNAME:CET
TZOFFSETFROM:+0200
TZOFFSETTO:+0100
END:STANDARD
END:VTIMEZONE
END:VCALENDAR
