BEGIN:VCALENDAR
VERSION:2.0
PRODID:-//Plone.org//NONSGML plone.app.event//EN
X-WR-TIMEZONE:Europe/Vienna
BEGIN:VEVENT
SUMMARY:Roots
DTSTART;TZID=Europe/Vienna:20260124T170000
DTEND;TZID=Europe/Vienna:20260124T172000
DTSTAMP:20260422T081555Z
UID:902041b925da4054a93b78a877234b2a@www.akbild.ac.at
CATEGORIES:Vorträge / Veranstaltungen
CREATED:20260108T095029Z
DESCRIPTION:Roots (Unbelonging) is a poetic exploration of family ties\, 
 heritage and loss. From a trans*crip perspective\, the piece looks at moth
 ering (unmothering\, remothering\, antimothering) and its limits.
LAST-MODIFIED:20260108T095102Z
URL:https://www.akbild.ac.at/en/university/events/exhibitions_didacticprog
 ram/2026/open-days-2026/roots
END:VEVENT
BEGIN:VTIMEZONE
TZID:Europe/Vienna
X-LIC-LOCATION:Europe/Vienna
BEGIN:STANDARD
DTSTART:20251026T020000
TZNAME:CET
TZOFFSETFROM:+0200
TZOFFSETTO:+0100
END:STANDARD
END:VTIMEZONE
END:VCALENDAR
