BEGIN:VCALENDAR
VERSION:2.0
PRODID:-//Plone.org//NONSGML plone.app.event//EN
X-WR-TIMEZONE:Europe/Vienna
BEGIN:VEVENT
SUMMARY:SOUNDLAB SHOWCASE
DTSTART;TZID=Europe/Vienna:20260122T190000
DTEND;TZID=Europe/Vienna:20260122T235900
DTSTAMP:20260422T081748Z
UID:c058fb758c564746a191aef506866c18@www.akbild.ac.at
CATEGORIES:Vorträge / Veranstaltungen
CREATED:20260120T090005Z
DESCRIPTION:Art and sound with live acts\, electronic performances\, sound
 scapes and dj sets.
LAST-MODIFIED:20260120T090033Z
URL:https://www.akbild.ac.at/en/university/events/exhibitions_didacticprog
 ram/2026/open-days-2026/soundlab-showcase
END:VEVENT
BEGIN:VTIMEZONE
TZID:Europe/Vienna
X-LIC-LOCATION:Europe/Vienna
BEGIN:STANDARD
DTSTART:20251026T020000
TZNAME:CET
TZOFFSETFROM:+0200
TZOFFSETTO:+0100
END:STANDARD
END:VTIMEZONE
END:VCALENDAR
