BEGIN:VCALENDAR
VERSION:2.0
PRODID:-//Plone.org//NONSGML plone.app.event//EN
X-WR-TIMEZONE:Europe/Vienna
BEGIN:VEVENT
SUMMARY:SUCK MY CODE!
DTSTART;TZID=Europe/Vienna:20260122T161000
DTEND;TZID=Europe/Vienna:20260125T180000
DTSTAMP:20260420T170526Z
UID:2d1be476659c4baf956449df10b097fc@www.akbild.ac.at
CATEGORIES:Ausstellungen
CREATED:20251217T103443Z
DESCRIPTION:The group exhibition SUCK MY CODE! opens up a glitchy experien
 tial space in which digital physicality is negotiated in the tension betwe
 en capitalization and sexualization.
LAST-MODIFIED:20260119T125427Z
URL:https://www.akbild.ac.at/en/university/events/exhibitions_didacticprog
 ram/2026/open-days-2026/suck-my-code
END:VEVENT
BEGIN:VTIMEZONE
TZID:Europe/Vienna
X-LIC-LOCATION:Europe/Vienna
BEGIN:STANDARD
DTSTART:20251026T020000
TZNAME:CET
TZOFFSETFROM:+0200
TZOFFSETTO:+0100
END:STANDARD
END:VTIMEZONE
END:VCALENDAR
