BEGIN:VCALENDAR
VERSION:2.0
PRODID:-//Plone.org//NONSGML plone.app.event//EN
X-WR-TIMEZONE:Europe/Vienna
BEGIN:VEVENT
SUMMARY:The Dreamer has to Fall: A Musical Evening
DTSTART;TZID=Europe/Vienna:20260124T180000
DTEND;TZID=Europe/Vienna:20260124T183000
DTSTAMP:20260422T081754Z
UID:847dd5cc9393406696a2fafc0ebcbe42@www.akbild.ac.at
CATEGORIES:Vorträge / Veranstaltungen
CREATED:20260107T143735Z
DESCRIPTION:The Dreamer Has To Fall: A Musical Evening is a small room con
 cert.
LAST-MODIFIED:20260107T152951Z
URL:https://www.akbild.ac.at/en/university/events/exhibitions_didacticprog
 ram/2026/open-days-2026/the-dreamer-has-to-fall-a-musical-evening
END:VEVENT
BEGIN:VTIMEZONE
TZID:Europe/Vienna
X-LIC-LOCATION:Europe/Vienna
BEGIN:STANDARD
DTSTART:20251026T020000
TZNAME:CET
TZOFFSETFROM:+0200
TZOFFSETTO:+0100
END:STANDARD
END:VTIMEZONE
END:VCALENDAR
