BEGIN:VCALENDAR
VERSION:2.0
PRODID:-//Plone.org//NONSGML plone.app.event//EN
X-WR-TIMEZONE:Europe/Vienna
BEGIN:VEVENT
SUMMARY:VIVI SCREENS
DTSTART;TZID=Europe/Vienna:20260123T183000
DTSTAMP:20260422T081708Z
UID:60651551a1f54dc58c19b99e8c830f6d@www.akbild.ac.at
CATEGORIES:Vorträge / Veranstaltungen
CREATED:20260120T121507Z
DESCRIPTION:A collection of film works by students from the Depar
 tment of Art and Time | Video.
LAST-MODIFIED:20260120T122116Z
URL:https://www.akbild.ac.at/en/university/events/exhibitions_didacticprog
 ram/2026/open-days-2026/vivi-screens
END:VEVENT
BEGIN:VTIMEZONE
TZID:Europe/Vienna
X-LIC-LOCATION:Europe/Vienna
BEGIN:STANDARD
DTSTART:20251026T020000
TZNAME:CET
TZOFFSETFROM:+0200
TZOFFSETTO:+0100
END:STANDARD
END:VTIMEZONE
END:VCALENDAR
