BEGIN:VCALENDAR
VERSION:2.0
PRODID:-//Plone.org//NONSGML plone.app.event//EN
X-WR-TIMEZONE:Europe/Vienna
BEGIN:VEVENT
SUMMARY:We're making space – A materials flea market for students
DTSTART;TZID=Europe/Vienna:20260123T130000
DTEND;TZID=Europe/Vienna:20260123T170000
DTSTAMP:20260423T100943Z
UID:963503de98354b9db6ed0e777d0604d0@www.akbild.ac.at
CATEGORIES:Vorträge / Veranstaltungen
CREATED:20260112T124644Z
DESCRIPTION:Flea market with leftover materials from storage
LAST-MODIFIED:20260112T124705Z
URL:https://www.akbild.ac.at/en/university/events/exhibitions_didacticprog
 ram/2026/open-days-2026/were-making-space-a-materials-flea-market-for-stud
 ents
END:VEVENT
BEGIN:VTIMEZONE
TZID:Europe/Vienna
X-LIC-LOCATION:Europe/Vienna
BEGIN:STANDARD
DTSTART:20251026T020000
TZNAME:CET
TZOFFSETFROM:+0200
TZOFFSETTO:+0100
END:STANDARD
END:VTIMEZONE
END:VCALENDAR
